BEGIN:VCALENDAR
PRODID:-//eluceo/ical//2.0/EN
VERSION:2.0
CALSCALE:GREGORIAN
BEGIN:VEVENT
UID:2387b6121dec1d1a229aff071d01f13d
DTSTAMP:20260421T090702Z
SUMMARY:Gastreferat 
DESCRIPTION:Govornik(ci): Mirjam Stemmler 
URL:https://rcgob.ch/bs/agenda/show/120042
DTSTART;TZID=Europe/Zurich:20210127T121500
DTEND;TZID=Europe/Zurich:20210127T131500
LOCATION:Online 
CATEGORIES:Rotary
END:VEVENT
BEGIN:VTIMEZONE
TZID:Europe/Zurich
BEGIN:STANDARD
DTSTART:20210127T121500
TZNAME:CET
TZOFFSETTO:+0100
TZOFFSETFROM:+0100
END:STANDARD
END:VTIMEZONE
END:VCALENDAR
