BEGIN:VCALENDAR
PRODID:-//eluceo/ical//2.0/EN
VERSION:2.0
CALSCALE:GREGORIAN
BEGIN:VEVENT
UID:f74856cdd3449f435d5d7b6a963520d7
DTSTAMP:20260419T165405Z
SUMMARY:Der umerzogene Linkshänder oder der "Knoten im Gehirn"
DESCRIPTION:Web stranica: https://zoom.us/j/97515552856?pwd=UnQ3NkgwOGQzS1J
 BVUY0dERGcFdGQT09\nGovornik(ci): Präsidentin elect RC Monschau Nordeifel
URL:https://rcgob.ch/bs/agenda/show/120346
DTSTART;TZID=Europe/Zurich:20210111T193000
DTEND;TZID=Europe/Zurich:20210111T210000
LOCATION:RC Monschau Nordeifel
CATEGORIES:Rotary
END:VEVENT
BEGIN:VTIMEZONE
TZID:Europe/Zurich
BEGIN:STANDARD
DTSTART:20210111T193000
TZNAME:CET
TZOFFSETTO:+0100
TZOFFSETFROM:+0100
END:STANDARD
END:VTIMEZONE
END:VCALENDAR
