BEGIN:VCALENDAR
PRODID:-//eluceo/ical//2.0/EN
VERSION:2.0
CALSCALE:GREGORIAN
BEGIN:VEVENT
UID:68ffe66bf463d91643b551e89a6427b3
DTSTAMP:20260423T093730Z
SUMMARY:Hoselupf\, Dinner mit Referat Bad Ramsach\, 19.15 Uhr
DESCRIPTION:Govornik(ci): Ferdi Christen
URL:https://rcgob.ch/bs/agenda/show/18641
DTSTART;TZID=Europe/Zurich:20110817T191500
DTEND;TZID=Europe/Zurich:20110817T211500
LOCATION:Dinner im Restaurant Bad Ramsach\, Läufelfingen\, 19.15 Uhr
CATEGORIES:Rotary
END:VEVENT
BEGIN:VTIMEZONE
TZID:Europe/Zurich
BEGIN:DAYLIGHT
DTSTART:20110817T191500
TZNAME:CEST
TZOFFSETTO:+0200
TZOFFSETFROM:+0200
END:DAYLIGHT
END:VTIMEZONE
END:VCALENDAR
