BEGIN:VCALENDAR
PRODID:-//eluceo/ical//2.0/EN
VERSION:2.0
CALSCALE:GREGORIAN
BEGIN:VEVENT
UID:4a889bdfd9b87f28110a4c29e424872d
DTSTAMP:20260419T132934Z
SUMMARY:Lunch mit Referat
DESCRIPTION:Govornik(ci): Emanuel Etter\, Klassifikationsvortrag
URL:https://rcgob.ch/bs/agenda/show/54517
DTSTART;TZID=Europe/Zurich:20151028T121500
DTEND;TZID=Europe/Zurich:20151028T121500
LOCATION:Restaurant Löwen
CATEGORIES:Rotary
END:VEVENT
BEGIN:VTIMEZONE
TZID:Europe/Zurich
BEGIN:STANDARD
DTSTART:20151028T121500
TZNAME:CET
TZOFFSETTO:+0100
TZOFFSETFROM:+0100
END:STANDARD
END:VTIMEZONE
END:VCALENDAR
