BEGIN:VCALENDAR
PRODID:-//eluceo/ical//2.0/EN
VERSION:2.0
CALSCALE:GREGORIAN
BEGIN:VEVENT
UID:fdfaf0d6aa3626b9fee63a4cd9443486
DTSTAMP:20260423T115216Z
SUMMARY:Präsenzfrühstück
DESCRIPTION:
URL:https://rcgob.ch/bs/agenda/show/59846
DTSTART;TZID=Europe/Zurich:20160301T060000
DTEND;TZID=Europe/Zurich:20160301T060000
LOCATION:Sissach Café Sutter
CATEGORIES:Rotary
END:VEVENT
BEGIN:VTIMEZONE
TZID:Europe/Zurich
BEGIN:STANDARD
DTSTART:20160301T060000
TZNAME:CET
TZOFFSETTO:+0100
TZOFFSETFROM:+0100
END:STANDARD
END:VTIMEZONE
END:VCALENDAR
