BEGIN:VCALENDAR
PRODID:-//eluceo/ical//2.0/EN
VERSION:2.0
CALSCALE:GREGORIAN
BEGIN:VEVENT
UID:f85b18e9d902cf8ca1f255820acb3b88
DTSTAMP:20260419T152434Z
SUMMARY:Lunch - New Generations: Ein  neuer rotarischer Dienst
DESCRIPTION:Orador(es): Kai Knöpfli
URL:https://rcgob.ch/es/agenda/show/22501
DTSTART;TZID=Europe/Zurich:20120613T121500
DTEND;TZID=Europe/Zurich:20120613T121500
LOCATION:Restaurant Löwen
CATEGORIES:Rotary
END:VEVENT
BEGIN:VTIMEZONE
TZID:Europe/Zurich
BEGIN:DAYLIGHT
DTSTART:20120613T121500
TZNAME:CEST
TZOFFSETTO:+0200
TZOFFSETFROM:+0200
END:DAYLIGHT
END:VTIMEZONE
END:VCALENDAR
