BEGIN:VCALENDAR
PRODID:-//eluceo/ical//2.0/EN
VERSION:2.0
CALSCALE:GREGORIAN
BEGIN:VEVENT
UID:707e05e4d7541d02f98174e66cfcb992
DTSTAMP:20260423T093834Z
SUMMARY:Wachtelmeier-Eier\, Rest. Löwen\, Sissach\, 12.15 Uhr
DESCRIPTION:Conférencier(s): Tobias Meier
URL:https://rcgob.ch/fr/agenda/show/19381
DTSTART;TZID=Europe/Zurich:20111130T121500
DTEND;TZID=Europe/Zurich:20111130T141500
LOCATION:Restaurant Löwen
CATEGORIES:Rotary
END:VEVENT
BEGIN:VTIMEZONE
TZID:Europe/Zurich
BEGIN:STANDARD
DTSTART:20111130T121500
TZNAME:CET
TZOFFSETTO:+0100
TZOFFSETFROM:+0100
END:STANDARD
END:VTIMEZONE
END:VCALENDAR
