BEGIN:VCALENDAR
PRODID:-//eluceo/ical//2.0/EN
VERSION:2.0
CALSCALE:GREGORIAN
BEGIN:VEVENT
UID:f6d8d4413574c4a726083b5738ccff6d
DTSTAMP:20260419T133257Z
SUMMARY:Lunch
DESCRIPTION:
URL:https://rcgob.ch/is/agenda/show/24268
DTSTART;TZID=Europe/Zurich:20120905T121500
DTEND;TZID=Europe/Zurich:20120905T121500
LOCATION:Restaurant Löwen
CATEGORIES:Rotary
END:VEVENT
BEGIN:VTIMEZONE
TZID:Europe/Zurich
BEGIN:DAYLIGHT
DTSTART:20120905T121500
TZNAME:CEST
TZOFFSETTO:+0200
TZOFFSETFROM:+0200
END:DAYLIGHT
END:VTIMEZONE
END:VCALENDAR
