BEGIN:VCALENDAR
PRODID:-//eluceo/ical//2.0/EN
VERSION:2.0
CALSCALE:GREGORIAN
BEGIN:VEVENT
UID:9beb9a9cfe5f35876bfd39c60b749db2
DTSTAMP:20260420T104321Z
SUMMARY:Lunch mit Referat
DESCRIPTION:Fyrirlesari(ar): mit Referat des Governors Urs Klemm
URL:https://rcgob.ch/is/agenda/show/44741
DTSTART;TZID=Europe/Zurich:20141126T121500
DTEND;TZID=Europe/Zurich:20141126T121500
LOCATION:Restaurant Löwen
CATEGORIES:Rotary
END:VEVENT
BEGIN:VTIMEZONE
TZID:Europe/Zurich
BEGIN:STANDARD
DTSTART:20141126T121500
TZNAME:CET
TZOFFSETTO:+0100
TZOFFSETFROM:+0100
END:STANDARD
END:VTIMEZONE
END:VCALENDAR
