BEGIN:VCALENDAR
PRODID:-//eluceo/ical//2.0/EN
VERSION:2.0
CALSCALE:GREGORIAN
BEGIN:VEVENT
UID:392375931a7115235ac17b4008bc0858
DTSTAMP:20260420T105135Z
SUMMARY:Ausfall
DESCRIPTION:Fyrirlesari(ar): wegen Silvester
URL:https://rcgob.ch/is/agenda/show/44748
DTSTART;TZID=Europe/Zurich:20141231T000000
DTEND;TZID=Europe/Zurich:20141231T000000
LOCATION:nicht im Restaurant Löwen
CATEGORIES:Rotary
END:VEVENT
BEGIN:VTIMEZONE
TZID:Europe/Zurich
BEGIN:STANDARD
DTSTART:20141231T000000
TZNAME:CET
TZOFFSETTO:+0100
TZOFFSETFROM:+0100
END:STANDARD
END:VTIMEZONE
END:VCALENDAR
