BEGIN:VCALENDAR
PRODID:-//eluceo/ical//2.0/EN
VERSION:2.0
CALSCALE:GREGORIAN
BEGIN:VEVENT
UID:f22b54f0a923bcb63d9ff11c191c7e7e
DTSTAMP:20260420T104712Z
SUMMARY:Wir besuchen unseren Partnerclub\, RC Monschau Nordeifel
DESCRIPTION:Wir besuchen unseren deutschen Partnerclub im Monschau / Nordrh
 einwestfahlen (in der Nordeifel südlich Aachen)\; Details und Programm zu
  gegebener Zeit\n\n \n\n \n\n \n\n\nValmynd:  \n\n\nFyrirlesari(ar): W
 ir besuchen unseren Partnerclub Rotary Club Monschau Nordeifel am Freitag\
 , 20. November bis und mit Sonntag\, 22.11.2015. Details später.
URL:https://rcgob.ch/is/agenda/show/48642
DTSTART;TZID=Europe/Zurich:20151127T070000
DTEND;TZID=Europe/Zurich:20151129T200000
LOCATION:Monschau\, NRW /D
CATEGORIES:Rotary
END:VEVENT
BEGIN:VTIMEZONE
TZID:Europe/Zurich
BEGIN:STANDARD
DTSTART:20151127T070000
TZNAME:CET
TZOFFSETTO:+0100
TZOFFSETFROM:+0100
END:STANDARD
END:VTIMEZONE
END:VCALENDAR
