BEGIN:VCALENDAR
PRODID:-//eluceo/ical//2.0/EN
VERSION:2.0
CALSCALE:GREGORIAN
BEGIN:VEVENT
UID:cbe934517990ecf510c71634ca3c440e
DTSTAMP:20260420T085919Z
SUMMARY:Sparlunch
DESCRIPTION:
URL:https://rcgob.ch/is/agenda/show/56931
DTSTART;TZID=Europe/Zurich:20151202T121500
DTEND;TZID=Europe/Zurich:20151202T121500
LOCATION:Restaurant Löwen
CATEGORIES:Rotary
END:VEVENT
BEGIN:VTIMEZONE
TZID:Europe/Zurich
BEGIN:STANDARD
DTSTART:20151202T121500
TZNAME:CET
TZOFFSETTO:+0100
TZOFFSETFROM:+0100
END:STANDARD
END:VTIMEZONE
END:VCALENDAR
