BEGIN:VCALENDAR
PRODID:-//eluceo/ical//2.0/EN
VERSION:2.0
CALSCALE:GREGORIAN
BEGIN:VEVENT
UID:791c9f390a9ec88f109b95c291a6741c
DTSTAMP:20260420T105936Z
SUMMARY:Präsenzfrühstück
DESCRIPTION:
URL:https://rcgob.ch/is/agenda/show/58950
DTSTART;TZID=Europe/Zurich:20160202T060000
DTEND;TZID=Europe/Zurich:20160202T060000
LOCATION:Sissach Café Sutter
CATEGORIES:Rotary
END:VEVENT
BEGIN:VTIMEZONE
TZID:Europe/Zurich
BEGIN:STANDARD
DTSTART:20160202T060000
TZNAME:CET
TZOFFSETTO:+0100
TZOFFSETFROM:+0100
END:STANDARD
END:VTIMEZONE
END:VCALENDAR
