BEGIN:VCALENDAR
PRODID:-//eluceo/ical//2.0/EN
VERSION:2.0
CALSCALE:GREGORIAN
BEGIN:VEVENT
UID:d9f7bc34ce109b041eeecc1083f63fb5
DTSTAMP:20260420T125629Z
SUMMARY:Lunch mit Klassifikationsvortrag Katherine Gessler
DESCRIPTION:
URL:https://rcgob.ch/is/agenda/show/60374
DTSTART;TZID=Europe/Zurich:20160413T121500
DTEND;TZID=Europe/Zurich:20160413T121500
LOCATION:Restaurant Löwen
CATEGORIES:Rotary
END:VEVENT
BEGIN:VTIMEZONE
TZID:Europe/Zurich
BEGIN:DAYLIGHT
DTSTART:20160413T121500
TZNAME:CEST
TZOFFSETTO:+0200
TZOFFSETFROM:+0200
END:DAYLIGHT
END:VTIMEZONE
END:VCALENDAR
