BEGIN:VCALENDAR
PRODID:-//eluceo/ical//2.0/EN
VERSION:2.0
CALSCALE:GREGORIAN
BEGIN:VEVENT
UID:b3a57fe422232a509ebd3046d7916279
DTSTAMP:20260420T090920Z
SUMMARY:Abendanlass mit Dinner
DESCRIPTION:
URL:https://rcgob.ch/is/agenda/show/61239
DTSTART;TZID=Europe/Zurich:20160420T191500
DTEND;TZID=Europe/Zurich:20160420T191500
LOCATION:Bad Eptingen
CATEGORIES:Rotary
END:VEVENT
BEGIN:VTIMEZONE
TZID:Europe/Zurich
BEGIN:DAYLIGHT
DTSTART:20160420T191500
TZNAME:CEST
TZOFFSETTO:+0200
TZOFFSETFROM:+0200
END:DAYLIGHT
END:VTIMEZONE
END:VCALENDAR
