BEGIN:VCALENDAR
PRODID:-//eluceo/ical//2.0/EN
VERSION:2.0
CALSCALE:GREGORIAN
BEGIN:VEVENT
UID:29b8db79d4ed4876eb67d573ca7d4095
DTSTAMP:20260420T103120Z
SUMMARY:Plauderlunch
DESCRIPTION:
URL:https://rcgob.ch/is/agenda/show/79110
DTSTART;TZID=Europe/Zurich:20170913T121500
DTEND;TZID=Europe/Zurich:20170913T121500
LOCATION:Restaurant Löwen
CATEGORIES:Rotary
END:VEVENT
BEGIN:VTIMEZONE
TZID:Europe/Zurich
BEGIN:DAYLIGHT
DTSTART:20170913T121500
TZNAME:CEST
TZOFFSETTO:+0200
TZOFFSETFROM:+0200
END:DAYLIGHT
END:VTIMEZONE
END:VCALENDAR
