BEGIN:VCALENDAR
PRODID:-//eluceo/ical//2.0/EN
VERSION:2.0
CALSCALE:GREGORIAN
BEGIN:VEVENT
UID:570d2191ee084f34ad609adeec2cc97b
DTSTAMP:20260424T130200Z
SUMMARY:Weihnachtsapéro
DESCRIPTION:
URL:https://rcgob.ch/is/agenda/show/79112
DTSTART;TZID=Europe/Zurich:20171220T190000
DTEND;TZID=Europe/Zurich:20171220T190000
LOCATION:Muff Haushalt Sissach
CATEGORIES:Rotary
END:VEVENT
BEGIN:VTIMEZONE
TZID:Europe/Zurich
BEGIN:STANDARD
DTSTART:20171220T190000
TZNAME:CET
TZOFFSETTO:+0100
TZOFFSETFROM:+0100
END:STANDARD
END:VTIMEZONE
END:VCALENDAR
