BEGIN:VCALENDAR
PRODID:-//eluceo/ical//2.0/EN
VERSION:2.0
CALSCALE:GREGORIAN
BEGIN:VEVENT
UID:db08d68411a8d55c3b7785d576b62e6b
DTSTAMP:20260424T090951Z
SUMMARY:Neujahrsessen mit Partnern (Anmeldung über separaten doodle:  http
 ://doodle.com/poll/98pwfm329x8s2hxt)
DESCRIPTION:Restaurant Le Murenberg in Bubendorf\n\nAnmeldung über separat
 en doodle:\n\nhttp://doodle.com/poll/98pwfm329x8s2hxt\n\n18:30 Uhr Apéro\
 n\n19:30 Uhr Dinner\nFyrirlesari(ar): Anmeldung über separaten doodle:\n\
 nhttp://doodle.com/poll/98pwfm329x8s2hxt
URL:https://rcgob.ch/is/agenda/show/79246
DTSTART;TZID=Europe/Zurich:20180112T183000
DTEND;TZID=Europe/Zurich:20180112T183000
LOCATION:Restaurant Lemurenberg in Bubendorf
CATEGORIES:Rotary
END:VEVENT
BEGIN:VTIMEZONE
TZID:Europe/Zurich
BEGIN:STANDARD
DTSTART:20180112T183000
TZNAME:CET
TZOFFSETTO:+0100
TZOFFSETFROM:+0100
END:STANDARD
END:VTIMEZONE
END:VCALENDAR
