BEGIN:VCALENDAR
PRODID:-//eluceo/ical//2.0/EN
VERSION:2.0
CALSCALE:GREGORIAN
BEGIN:VEVENT
UID:a4667555e9c0266b6d011f413a3c24e6
DTSTAMP:20260420T121359Z
SUMMARY:Abgesagt! Besichtigung Si Group anschl. Dinner im Rest. Waldhaus Bi
 rsfelden
DESCRIPTION:Anlass ist abgesagt\nFyrirlesari(ar): Mangels Teilnehmer musste
  die Besichtigung und der Dinner abgesagt werden.\nSI-Group-Switzerland Gm
 bH\, Kästeliweg 7 in 4133 Pratteln
URL:https://rcgob.ch/is/agenda/show/80862
DTSTART;TZID=Europe/Zurich:20171115T180000
DTEND;TZID=Europe/Zurich:20171115T180000
LOCATION:-
CATEGORIES:Rotary
END:VEVENT
BEGIN:VTIMEZONE
TZID:Europe/Zurich
BEGIN:STANDARD
DTSTART:20171115T180000
TZNAME:CET
TZOFFSETTO:+0100
TZOFFSETFROM:+0100
END:STANDARD
END:VTIMEZONE
END:VCALENDAR
