BEGIN:VCALENDAR
PRODID:-//eluceo/ical//2.0/EN
VERSION:2.0
CALSCALE:GREGORIAN
BEGIN:VEVENT
UID:659dc0e80f43e7051d01f0d592bd609f
DTSTAMP:20260424T104500Z
SUMMARY:Wanderung (hoffentlich mit Schnee) auf den Sunnenberg\, Maisprach
DESCRIPTION:Abfahrt Postauto 10:40 Uhr Gelterkinden Bhf\; Wanderung ab Halt
 estelle Maisprach\, ca. 90 Min\n\nWer möchte kann auch mit dem Auto auf d
 ie "Passhöhe" zwischen Maisprach und Möhlin fahren und von dort aus hina
 uf- und hinunterwandern.\n\nAnmeldung via Doodle\, siehe Mail vom 16.2.201
 8 von Marco Santschi\nFyrirlesari(ar): Winterwanderungen von Maisprach auf
  den Sunnenberg (zwischen Maisprach u Möhlin) zum Imbiss im Turmstübli (
 Bewirtung von Naturfreunde Möhlin)
URL:https://rcgob.ch/is/agenda/show/82191
DTSTART;TZID=Europe/Zurich:20180128T104000
DTEND;TZID=Europe/Zurich:20180128T160000
LOCATION:Turmstübli der Naturfreunde Maisprach\, Sunnenberg Maisprach
CATEGORIES:Rotary
END:VEVENT
BEGIN:VTIMEZONE
TZID:Europe/Zurich
BEGIN:STANDARD
DTSTART:20180128T104000
TZNAME:CET
TZOFFSETTO:+0100
TZOFFSETFROM:+0100
END:STANDARD
END:VTIMEZONE
END:VCALENDAR
