BEGIN:VCALENDAR
PRODID:-//eluceo/ical//2.0/EN
VERSION:2.0
CALSCALE:GREGORIAN
BEGIN:VEVENT
UID:debb01054fa4348ba0ddf7e2dc6a1a0f
DTSTAMP:20260424T092906Z
SUMMARY:Dinner
DESCRIPTION:
URL:https://rcgob.ch/is/agenda/show/84231
DTSTART;TZID=Europe/Zurich:20180321T190000
DTEND;TZID=Europe/Zurich:20180321T190000
LOCATION:Sissach Ristorante Giuseppe Verdi
CATEGORIES:Rotary
END:VEVENT
BEGIN:VTIMEZONE
TZID:Europe/Zurich
BEGIN:STANDARD
DTSTART:20180321T190000
TZNAME:CET
TZOFFSETTO:+0100
TZOFFSETFROM:+0100
END:STANDARD
END:VTIMEZONE
END:VCALENDAR
