BEGIN:VCALENDAR
PRODID:-//eluceo/ical//2.0/EN
VERSION:2.0
CALSCALE:GREGORIAN
BEGIN:VEVENT
UID:233089606074fabbf16745f6d524b487
DTSTAMP:20260420T121220Z
SUMMARY:Waldräumung der Bürgergemeinde Gelterkinden
DESCRIPTION:Wir helfen an der Waldräumung der Bürgergemeinde Gelterkinden
 \; zweckgemässe waldgerechte Kleidung ist Pflicht. Im Anschluss gibt es i
 n der Stierenstallhütte Gelterkinden einen Imbiss.\nFyrirlesari(ar): Am S
 amstag 17.3.2018 (Ersatzdatum Sa\, 24.3.2018) findet die Waldräumung des 
 Bürgerwaldes der Bürgergemeinde Gelterkinden statt.\nAls Hands-On Projek
 t helfen wir mit.
URL:https://rcgob.ch/is/agenda/show/84694
DTSTART;TZID=Europe/Zurich:20180317T130000
DTEND;TZID=Europe/Zurich:20180317T180000
LOCATION:Schützenhaus Gelterkinden
CATEGORIES:Rotary
END:VEVENT
BEGIN:VTIMEZONE
TZID:Europe/Zurich
BEGIN:STANDARD
DTSTART:20180317T130000
TZNAME:CET
TZOFFSETTO:+0100
TZOFFSETFROM:+0100
END:STANDARD
END:VTIMEZONE
END:VCALENDAR
