BEGIN:VCALENDAR
PRODID:-//eluceo/ical//2.0/EN
VERSION:2.0
CALSCALE:GREGORIAN
BEGIN:VEVENT
UID:176591b08cc8480dc2284aef2b73fce9
DTSTAMP:20260424T124148Z
SUMMARY:Präsenzfrühstück
DESCRIPTION:
URL:https://rcgob.ch/is/agenda/show/85659
DTSTART;TZID=Europe/Zurich:20180508T060000
DTEND;TZID=Europe/Zurich:20180508T060000
LOCATION:Sissach Café Sutter
CATEGORIES:Rotary
END:VEVENT
BEGIN:VTIMEZONE
TZID:Europe/Zurich
BEGIN:DAYLIGHT
DTSTART:20180508T060000
TZNAME:CEST
TZOFFSETTO:+0200
TZOFFSETFROM:+0200
END:DAYLIGHT
END:VTIMEZONE
END:VCALENDAR
