BEGIN:VCALENDAR
PRODID:-//eluceo/ical//2.0/EN
VERSION:2.0
CALSCALE:GREGORIAN
BEGIN:VEVENT
UID:9155d928ef128e43dc7d974a731fd105
DTSTAMP:20260424T125548Z
SUMMARY:Dinner
DESCRIPTION:
URL:https://rcgob.ch/is/agenda/show/87323
DTSTART;TZID=Europe/Zurich:20180620T190000
DTEND;TZID=Europe/Zurich:20180620T190000
LOCATION:Landgasthof Thalhaus Bubendorf
CATEGORIES:Rotary
END:VEVENT
BEGIN:VTIMEZONE
TZID:Europe/Zurich
BEGIN:DAYLIGHT
DTSTART:20180620T190000
TZNAME:CEST
TZOFFSETTO:+0200
TZOFFSETFROM:+0200
END:DAYLIGHT
END:VTIMEZONE
END:VCALENDAR
