BEGIN:VCALENDAR
PRODID:-//eluceo/ical//2.0/EN
VERSION:2.0
CALSCALE:GREGORIAN
BEGIN:VEVENT
UID:f90e76de1260cb323ab978a2f0179e44
DTSTAMP:20260424T124824Z
SUMMARY:Plauderlunch
DESCRIPTION:
URL:https://rcgob.ch/is/agenda/show/91547
DTSTART;TZID=Europe/Zurich:20181003T121500
DTEND;TZID=Europe/Zurich:20181003T121500
LOCATION:Restaurant Löwen
CATEGORIES:Rotary
END:VEVENT
BEGIN:VTIMEZONE
TZID:Europe/Zurich
BEGIN:DAYLIGHT
DTSTART:20181003T121500
TZNAME:CEST
TZOFFSETTO:+0200
TZOFFSETFROM:+0200
END:DAYLIGHT
END:VTIMEZONE
END:VCALENDAR
