BEGIN:VCALENDAR
PRODID:-//eluceo/ical//2.0/EN
VERSION:2.0
CALSCALE:GREGORIAN
BEGIN:VEVENT
UID:f60ea2b30e6a2ec97867046c3db3172f
DTSTAMP:20260424T125443Z
SUMMARY:Lunch mit Governorbesuch DG Roland Wunderli
DESCRIPTION:Fyrirlesari(ar): Programm:\n10:45 Uhr Gespräch Präsident und 
 Sekretär\n11:15 Uhr Gespräch mit Vorstand und Kommissionsvorsitzenden\n1
 2:15 Uhr Beginn Lunch mit Vortrag DG Roland Wunderli
URL:https://rcgob.ch/is/agenda/show/91549
DTSTART;TZID=Europe/Zurich:20181024T121500
DTEND;TZID=Europe/Zurich:20181024T121500
LOCATION:Restaurant Löwen
CATEGORIES:Rotary
END:VEVENT
BEGIN:VTIMEZONE
TZID:Europe/Zurich
BEGIN:DAYLIGHT
DTSTART:20181024T121500
TZNAME:CEST
TZOFFSETTO:+0200
TZOFFSETFROM:+0200
END:DAYLIGHT
END:VTIMEZONE
END:VCALENDAR
