BEGIN:VCALENDAR
PRODID:-//eluceo/ical//2.0/EN
VERSION:2.0
CALSCALE:GREGORIAN
BEGIN:VEVENT
UID:46382a5e19758ef3a4f4e82b6a5c87e7
DTSTAMP:20260424T143900Z
SUMMARY:Besuch Governor mit Lunch 12:15 Löwen Sissach
DESCRIPTION:Sprekers: Rocco Oligati
URL:https://rcgob.ch/nl/agenda/show/18642
DTSTART;TZID=Europe/Zurich:20110824T121500
DTEND;TZID=Europe/Zurich:20110824T141500
LOCATION:Restaurant Löwen
CATEGORIES:Rotary
END:VEVENT
BEGIN:VTIMEZONE
TZID:Europe/Zurich
BEGIN:DAYLIGHT
DTSTART:20110824T121500
TZNAME:CEST
TZOFFSETTO:+0200
TZOFFSETFROM:+0200
END:DAYLIGHT
END:VTIMEZONE
END:VCALENDAR
